BEGIN:VCALENDAR
VERSION:2.0
PRODID:-//CEMAES - ECPv6.3.7//NONSGML v1.0//EN
CALSCALE:GREGORIAN
METHOD:PUBLISH
X-WR-CALNAME:CEMAES
X-ORIGINAL-URL:https://cemaes.disruptia.digital
X-WR-CALDESC:évènements pour CEMAES
REFRESH-INTERVAL;VALUE=DURATION:PT1H
X-Robots-Tag:noindex
X-PUBLISHED-TTL:PT1H
BEGIN:VTIMEZONE
TZID:Africa/Casablanca
BEGIN:DAYLIGHT
TZOFFSETFROM:+0100
TZOFFSETTO:+0000
TZNAME:+00
DTSTART:20230319T020000
END:DAYLIGHT
BEGIN:STANDARD
TZOFFSETFROM:+0000
TZOFFSETTO:+0100
TZNAME:+01
DTSTART:20230423T020000
END:STANDARD
END:VTIMEZONE
BEGIN:VEVENT
DTSTART;TZID=Africa/Casablanca:20230606T090000
DTEND;TZID=Africa/Casablanca:20230608T200000
DTSTAMP:20260421T035812
CREATED:20240327T154914Z
LAST-MODIFIED:20240327T154914Z
UID:5411-1686042000-1686254400@cemaes.disruptia.digital
SUMMARY:Rencontre d'affaires et d'investissement - Maroc - Espagne
DESCRIPTION:
URL:https://cemaes.disruptia.digital/event/rencontre-daffaires-et-dinvestissement-maroc-espagne/
LOCATION:hôtel Barceló Anfa Casablanca*****\, 44 Bd d'Anfa\, Casablanca\, 20000\, Morocco
ATTACH;FMTTYPE=image/webp:https://cemaes.disruptia.digital/wp-content/uploads/2024/03/events-cemaes-2.webp
END:VEVENT
END:VCALENDAR