BEGIN:VCALENDAR
VERSION:2.0
PRODID:-//CEMAES - ECPv6.3.7//NONSGML v1.0//EN
CALSCALE:GREGORIAN
METHOD:PUBLISH
X-WR-CALNAME:CEMAES
X-ORIGINAL-URL:https://cemaes.disruptia.digital
X-WR-CALDESC:évènements pour CEMAES
REFRESH-INTERVAL;VALUE=DURATION:PT1H
X-Robots-Tag:noindex
X-PUBLISHED-TTL:PT1H
BEGIN:VTIMEZONE
TZID:Europe/Paris
BEGIN:DAYLIGHT
TZOFFSETFROM:+0100
TZOFFSETTO:+0200
TZNAME:CEST
DTSTART:20230326T010000
END:DAYLIGHT
BEGIN:STANDARD
TZOFFSETFROM:+0200
TZOFFSETTO:+0100
TZNAME:CET
DTSTART:20231029T010000
END:STANDARD
END:VTIMEZONE
BEGIN:VEVENT
DTSTART;VALUE=DATE:20230201
DTEND;VALUE=DATE:20230202
DTSTAMP:20260421T110127
CREATED:20240422T124431Z
LAST-MODIFIED:20240422T125309Z
UID:5566-1675209600-1675295999@cemaes.disruptia.digital
SUMMARY:Forum Economique Maroc - Espagne
DESCRIPTION:
URL:https://cemaes.disruptia.digital/event/forum-economique-maroc-espagne/
LOCATION:Rabat – Maroc
ATTACH;FMTTYPE=image/webp:https://cemaes.disruptia.digital/wp-content/uploads/2024/04/forum-eco-rabat-01-02-2023.webp
END:VEVENT
END:VCALENDAR